BEGIN:VCALENDAR
VERSION:2.0
PRODID:-//GreatParks//greatparks.org//EN
CALSCALE:GREGORIAN
BEGIN:VEVENT
UID:901504699679@greatparks.org
DTSTAMP:20260425T083653Z
DTSTART:20260425T130000Z
DTEND:20260425T140000Z
TRANSP:OPAQUE
SUMMARY:Morning Coffee With the Birds
DESCRIPTION:<p>On the last Saturday of each month\, start your morning with some peace and quiet at the Nature Center. Wake up with the birds and watch them fly by while sipping freshly brewed coffee.</p>\n<p><strong>Cost:</strong>&nbsp\;Free&emsp\;<strong>Age(s):</strong>&nbsp\;All ages\n<br><strong>Location:</strong>&nbsp\;Woodland Mound | Seasongood Nature Center</p>\n
LOCATION:Woodland Mound
URL:https://reservations.greatparks.org/Info.aspx?ActivityID=90150
BEGIN:VALARM
TRIGGER:-PT30M
ACTION:DISPLAY
DESCRIPTION:Reminder
END:VALARM
END:VEVENT
END:VCALENDAR
